BEGIN:VCALENDAR
VERSION:2.0
PRODID:icalendar-ruby
CALSCALE:GREGORIAN
BEGIN:VTIMEZONE
TZID:America/New_York
BEGIN:DAYLIGHT
DTSTART:20180311T030000
TZOFFSETFROM:-0500
TZOFFSETTO:-0400
RRULE:FREQ=YEARLY;BYDAY=2SU;BYMONTH=3
TZNAME:EDT
END:DAYLIGHT
BEGIN:STANDARD
DTSTART:20181104T010000
TZOFFSETFROM:-0400
TZOFFSETTO:-0500
RRULE:FREQ=YEARLY;BYDAY=1SU;BYMONTH=11
TZNAME:EST
END:STANDARD
END:VTIMEZONE
BEGIN:VEVENT
DTSTAMP:20260419T133809Z
UID:9e89ed4c-3f94-439c-acc1-ccbd1ac6131a
DTSTART;TZID=America/New_York:20181001T000000
DTEND;TZID=America/New_York:20241231T000000
CLASS:PRIVATE
DESCRIPTION:Développement professionnel (CDP-FSPD)
SUMMARY:Développement professionnel (CDP-FSPD)
END:VEVENT
END:VCALENDAR
